BEGIN:VCALENDAR
VERSION:2.0
PRODID:SchoolNow
CALSCALE:GREGORIAN
BEGIN:VEVENT
UID:75f599f2-037b-11f1-942f-0265c6959b27
DTSTAMP:20260423T173508Z
SUMMARY:Varsity Boys Baseball  Practice (Practice)
URL;VALUE=URI:https://www.rak12.org/calendar/8850598/varsity-boys-baseball-
 practice-practice
DTSTART:20260423T193000Z
DTEND:20260423T203000Z
END:VEVENT
END:VCALENDAR
