BEGIN:VCALENDAR
VERSION:2.0
PRODID:SchoolNow
CALSCALE:GREGORIAN
BEGIN:VEVENT
UID:75f59ede-037b-11f1-abbd-0265c6959b27
DTSTAMP:20260423T173509Z
SUMMARY:POSTPONED: Middle School Boys Baseball @ Calvary Christian Academy
LOCATION:1400 Southhampton Road Philadelphia\, PA 19116
URL;VALUE=URI:https://www.rak12.org/calendar/8850603/postponed-middle-schoo
 l-boys-baseball-calvary-christian-academy
DTSTART:20260415T193000Z
DTEND:20260415T203000Z
END:VEVENT
END:VCALENDAR
