BEGIN:VCALENDAR
VERSION:2.0
PRODID:SchoolNow
CALSCALE:GREGORIAN
BEGIN:VEVENT
UID:75f5a488-037b-11f1-979d-0265c6959b27
DTSTAMP:20260423T234007Z
SUMMARY:Middle School Boys Baseball vs Delaware County Christian School
LOCATION:771 Wheatland Street Phoenixville\, PA 19460
URL;VALUE=URI:https://www.rak12.org/calendar/8850609/middle-school-boys-bas
 eball-vs-delaware-county-christian-school
DTSTART:20260514T191500Z
DTEND:20260514T201500Z
END:VEVENT
END:VCALENDAR
