BEGIN:VCALENDAR
VERSION:2.0
PRODID:SchoolNow
CALSCALE:GREGORIAN
BEGIN:VEVENT
UID:75f5a596-037b-11f1-bc87-0265c6959b27
DTSTAMP:20260423T173508Z
SUMMARY:Middle School Girls Softball  Practice (Practice)
URL;VALUE=URI:https://www.rak12.org/calendar/8850610/middle-school-girls-so
 ftball-practice-practice
DTSTART:20260424T193000Z
DTEND:20260424T203000Z
END:VEVENT
END:VCALENDAR
