BEGIN:VCALENDAR
VERSION:2.0
PRODID:SchoolNow
CALSCALE:GREGORIAN
BEGIN:VEVENT
UID:75f5aa8c-037b-11f1-a7a5-0265c6959b27
DTSTAMP:20260423T173508Z
SUMMARY:Middle School Boys Baseball @ Collegium Charter School (Exton)
LOCATION:110 Boot Road Park West Chester\, PA 19380
URL;VALUE=URI:https://www.rak12.org/calendar/8850615/middle-school-boys-bas
 eball-collegium-charter-school-exton
DTSTART:20260420T190000Z
DTEND:20260420T200000Z
END:VEVENT
END:VCALENDAR
