BEGIN:VCALENDAR
VERSION:2.0
PRODID:SchoolNow
CALSCALE:GREGORIAN
BEGIN:VEVENT
UID:76432316-037b-11f1-aaca-0265c6959b27
DTSTAMP:20260423T173508Z
SUMMARY:CANCELLED: Middle School Girls Softball  Practice (Practice)
URL;VALUE=URI:https://www.rak12.org/calendar/8850622/cancelled-middle-schoo
 l-girls-softball-practice-practice
DTSTART:20260402T193000Z
DTEND:20260402T203000Z
END:VEVENT
END:VCALENDAR
