BEGIN:VCALENDAR
VERSION:2.0
PRODID:SchoolNow
CALSCALE:GREGORIAN
BEGIN:VEVENT
UID:7643256e-037b-11f1-bf70-0265c6959b27
DTSTAMP:20260423T234008Z
SUMMARY:Varsity Boys Football  Preseaon Workouts (Practice)
LOCATION:413 Fairview Street Phoenixville\, PA 19460
URL;VALUE=URI:https://www.rak12.org/calendar/8850624/varsity-boys-football-
 preseaon-workouts-practice
DTSTART:20260324T193000Z
DTEND:20260324T203000Z
END:VEVENT
END:VCALENDAR
