BEGIN:VCALENDAR
VERSION:2.0
PRODID:SchoolNow
CALSCALE:GREGORIAN
BEGIN:VEVENT
UID:7643359a-037b-11f1-9201-0265c6959b27
DTSTAMP:20260423T234007Z
SUMMARY:Varsity Girls Track & Field @ BAL Championships
URL;VALUE=URI:https://www.rak12.org/calendar/8850634/varsity-girls-track-fi
 eld-bal-championships
DTSTART:20260506T203000Z
DTEND:20260506T213000Z
END:VEVENT
END:VCALENDAR
