BEGIN:VCALENDAR
VERSION:2.0
PRODID:SchoolNow
CALSCALE:GREGORIAN
BEGIN:VEVENT
UID:76433978-037b-11f1-b0b3-0265c6959b27
DTSTAMP:20260423T173508Z
SUMMARY:CANCELLED: Middle School Boys Baseball  Practice (Practice)
URL;VALUE=URI:https://www.rak12.org/calendar/8850636/cancelled-middle-schoo
 l-boys-baseball-practice-practice
DTSTART:20260403T193000Z
DTEND:20260403T203000Z
END:VEVENT
END:VCALENDAR
