BEGIN:VCALENDAR
VERSION:2.0
PRODID:SchoolNow
CALSCALE:GREGORIAN
BEGIN:VEVENT
UID:76433cac-037b-11f1-bffe-0265c6959b27
DTSTAMP:20260423T173508Z
SUMMARY:Varsity Girls Track & Field @ BAL Relay Meet
URL;VALUE=URI:https://www.rak12.org/calendar/8850639/varsity-girls-track-fi
 eld-bal-relay-meet
DTSTART:20260417T194500Z
DTEND:20260417T204500Z
END:VEVENT
END:VCALENDAR
