BEGIN:VCALENDAR
VERSION:2.0
PRODID:SchoolNow
CALSCALE:GREGORIAN
BEGIN:VEVENT
UID:76433e78-037b-11f1-9ca5-0265c6959b27
DTSTAMP:20260423T173508Z
SUMMARY:Varsity Boys Baseball  Practice (Practice)
LOCATION:771 Wheatland Street Phoenixville\, PA 19460
URL;VALUE=URI:https://www.rak12.org/calendar/8850641/varsity-boys-baseball-
 practice-practice
DTSTART:20260401T193000Z
DTEND:20260401T203000Z
END:VEVENT
END:VCALENDAR
