BEGIN:VCALENDAR
VERSION:2.0
PRODID:SchoolNow
CALSCALE:GREGORIAN
BEGIN:VEVENT
UID:764342ba-037b-11f1-816e-0265c6959b27
DTSTAMP:20260423T234007Z
SUMMARY:Varsity Girls Track & Field @ Tom Putera Invitational
LOCATION:1000 Forty Foot Road Lansdale\, PA 19446
URL;VALUE=URI:https://www.rak12.org/calendar/8850645/varsity-girls-track-fi
 eld-tom-putera-invitational
DTSTART:20260328T150000Z
DTEND:20260328T160000Z
END:VEVENT
END:VCALENDAR
