BEGIN:VCALENDAR
VERSION:2.0
PRODID:SchoolNow
CALSCALE:GREGORIAN
BEGIN:VEVENT
UID:764343b4-037b-11f1-841f-0265c6959b27
DTSTAMP:20260423T173508Z
SUMMARY:Middle School Girls Softball @ Delaware County Christian School
LOCATION:462 Malin Rd Newtown Sq\, PA 19073
URL;VALUE=URI:https://www.rak12.org/calendar/8850646/middle-school-girls-so
 ftball-delaware-county-christian-school
DTSTART:20260422T193000Z
DTEND:20260422T203000Z
END:VEVENT
END:VCALENDAR
