BEGIN:VCALENDAR
VERSION:2.0
PRODID:SchoolNow
CALSCALE:GREGORIAN
BEGIN:VEVENT
UID:7643502a-037b-11f1-96d3-0265c6959b27
DTSTAMP:20260423T234008Z
SUMMARY:Middle School Boys Baseball @ Jenkintown MS/HS
LOCATION:285 West Ave Jenkintown\, PA 19046
URL;VALUE=URI:https://www.rak12.org/calendar/8850659/middle-school-boys-bas
 eball-jenkintown-ms-hs
DTSTART:20260504T194500Z
DTEND:20260504T204500Z
END:VEVENT
END:VCALENDAR
