BEGIN:VCALENDAR
VERSION:2.0
PRODID:SchoolNow
CALSCALE:GREGORIAN
BEGIN:VEVENT
UID:764362f4-037b-11f1-a243-0265c6959b27
DTSTAMP:20260423T173508Z
SUMMARY:CANCELLED: Middle School Boys Baseball  Practice (Practice)
URL;VALUE=URI:https://www.rak12.org/calendar/8850668/cancelled-middle-schoo
 l-boys-baseball-practice-practice
DTSTART:20260401T193000Z
DTEND:20260401T203000Z
END:VEVENT
END:VCALENDAR
