BEGIN:VCALENDAR
VERSION:2.0
PRODID:SchoolNow
CALSCALE:GREGORIAN
BEGIN:VEVENT
UID:76775924-037b-11f1-bce5-0265c6959b27
DTSTAMP:20260423T173508Z
SUMMARY:Varsity Boys Football  Preseaon Workouts (Practice)
LOCATION:413 Fairview Street Phoenixville\, PA 19460
URL;VALUE=URI:https://www.rak12.org/calendar/8850676/varsity-boys-football-
 preseaon-workouts-practice
DTSTART:20260427T193000Z
DTEND:20260427T203000Z
END:VEVENT
END:VCALENDAR
