BEGIN:VCALENDAR
VERSION:2.0
PRODID:SchoolNow
CALSCALE:GREGORIAN
BEGIN:VEVENT
UID:0ef394fa-0602-11f1-99b0-0a58a9feac02
DTSTAMP:20260423T215114Z
SUMMARY:Senior Project Service Trip
URL;VALUE=URI:https://www.rak12.org/calendar/8851931/senior-project-service
 -trip
DTSTART:20260304T133000Z
DTEND:20260304T173000Z
END:VEVENT
END:VCALENDAR
