BEGIN:VCALENDAR
VERSION:2.0
PRODID:SchoolNow
CALSCALE:GREGORIAN
BEGIN:VEVENT
UID:0f100540-0602-11f1-af15-0a58a9feac02
DTSTAMP:20260423T215115Z
SUMMARY:Virtual Kindergarten Express Family Information Night
URL;VALUE=URI:https://www.rak12.org/calendar/8851932/virtual-kindergarten-e
 xpress-family-information-night
DTSTART:20260507T220000Z
DTEND:20260507T233000Z
END:VEVENT
END:VCALENDAR
