BEGIN:VCALENDAR
VERSION:2.0
PRODID:SchoolNow
CALSCALE:GREGORIAN
BEGIN:VEVENT
UID:075d2364-06de-11f1-ad9a-0e4cf79325db
DTSTAMP:20260423T173508Z
SUMMARY:Varsity Boys Football  weight room (Practice)
LOCATION:413 Fairview Street Phoenixville\, PA 19460
URL;VALUE=URI:https://www.rak12.org/calendar/8852825/varsity-boys-football-
 weight-room-practice
DTSTART:20260418T130000Z
DTEND:20260418T140000Z
END:VEVENT
END:VCALENDAR
