BEGIN:VCALENDAR
VERSION:2.0
PRODID:SchoolNow
CALSCALE:GREGORIAN
BEGIN:VEVENT
UID:076f5714-06de-11f1-8f7c-0e4cf79325db
DTSTAMP:20260423T234007Z
SUMMARY:Varsity Boys Football  weight room (Practice)
LOCATION:413 Fairview Street Phoenixville\, PA 19460
URL;VALUE=URI:https://www.rak12.org/calendar/8852834/varsity-boys-football-
 weight-room-practice
DTSTART:20260328T130000Z
DTEND:20260328T140000Z
END:VEVENT
END:VCALENDAR
