BEGIN:VCALENDAR
VERSION:2.0
PRODID:SchoolNow
CALSCALE:GREGORIAN
BEGIN:VEVENT
UID:f02b1d8e-0865-11f1-9252-0a58a9feac02
DTSTAMP:20260423T215114Z
SUMMARY:Civil Air Patrol
LOCATION:US Gym
URL;VALUE=URI:https://www.rak12.org/calendar/8854623/civil-air-patrol
DTSTART:20260220T000000Z
DTEND:20260220T020000Z
END:VEVENT
END:VCALENDAR
