BEGIN:VCALENDAR
VERSION:2.0
PRODID:SchoolNow
CALSCALE:GREGORIAN
BEGIN:VEVENT
UID:da6c86b0-09fd-11f1-a689-0a58a9feac02
DTSTAMP:20260423T215114Z
SUMMARY:Junior Class Ring Orders
LOCATION:HS Flex
URL;VALUE=URI:https://www.rak12.org/calendar/8856196/junior-class-ring-orde
 rs
DTSTART:20260324T160000Z
DTEND:20260324T163000Z
END:VEVENT
END:VCALENDAR
