BEGIN:VCALENDAR
VERSION:2.0
PRODID:SchoolNow
CALSCALE:GREGORIAN
BEGIN:VEVENT
UID:da9a79d0-09fd-11f1-8253-0a58a9feac02
DTSTAMP:20260423T215114Z
SUMMARY:Junior Class Meeting-Class Rings
LOCATION:HS Flex
URL;VALUE=URI:https://www.rak12.org/calendar/8856197/junior-class-meeting-c
 lass-rings
DTSTART:20260303T170000Z
DTEND:20260303T173000Z
END:VEVENT
END:VCALENDAR
