BEGIN:VCALENDAR
VERSION:2.0
PRODID:SchoolNow
CALSCALE:GREGORIAN
BEGIN:VEVENT
UID:82843aba-10f6-11f1-bab3-0a58a9feac02
DTSTAMP:20260423T215114Z
SUMMARY:AP European History Review Session
LOCATION:Room 204
URL;VALUE=URI:https://www.rak12.org/calendar/8867713/ap-european-history-re
 view-session
DTSTART:20260402T193000Z
DTEND:20260402T204500Z
END:VEVENT
END:VCALENDAR
