BEGIN:VCALENDAR
VERSION:2.0
PRODID:SchoolNow
CALSCALE:GREGORIAN
BEGIN:VEVENT
UID:8298cd04-10f6-11f1-97ad-0a58a9feac02
DTSTAMP:20260423T215114Z
SUMMARY:AP CS Principles Field Trip
LOCATION:West Chester University\, 700 S High St\, West Chester\, PA 19383\
 , USA
URL;VALUE=URI:https://www.rak12.org/calendar/8867715/ap-cs-principles-field
 -trip
DTSTART:20260306T130000Z
DTEND:20260306T200000Z
END:VEVENT
END:VCALENDAR
