BEGIN:VCALENDAR
VERSION:2.0
PRODID:SchoolNow
CALSCALE:GREGORIAN
BEGIN:VEVENT
UID:8298d3b2-10f6-11f1-adc0-0a58a9feac02
DTSTAMP:20260423T215114Z
SUMMARY:Greece Trip Meeting
LOCATION:2nd Floor Flex
URL;VALUE=URI:https://www.rak12.org/calendar/8867717/greece-trip-meeting
DTSTART:20260304T233000Z
DTEND:20260305T003000Z
END:VEVENT
END:VCALENDAR
