BEGIN:VCALENDAR
VERSION:2.0
PRODID:SchoolNow
CALSCALE:GREGORIAN
BEGIN:VEVENT
UID:8298d754-10f6-11f1-a7a6-0a58a9feac02
DTSTAMP:20260423T215114Z
SUMMARY:AP European History Review Session
LOCATION:Room 204
URL;VALUE=URI:https://www.rak12.org/calendar/8867719/ap-european-history-re
 view-session
DTSTART:20260314T130000Z
DTEND:20260314T150000Z
END:VEVENT
END:VCALENDAR
