BEGIN:VCALENDAR
VERSION:2.0
PRODID:SchoolNow
CALSCALE:GREGORIAN
BEGIN:VEVENT
UID:8298de66-10f6-11f1-9ae7-0a58a9feac02
DTSTAMP:20260423T215114Z
SUMMARY:AP European History Review Session
LOCATION:Room 204
URL;VALUE=URI:https://www.rak12.org/calendar/8867724/ap-european-history-re
 view-session
DTSTART:20260303T203000Z
DTEND:20260303T214500Z
END:VEVENT
END:VCALENDAR
