BEGIN:VCALENDAR
VERSION:2.0
PRODID:SchoolNow
CALSCALE:GREGORIAN
BEGIN:VEVENT
UID:8298df4c-10f6-11f1-a080-0a58a9feac02
DTSTAMP:20260423T215114Z
SUMMARY:AP European History Review Session
LOCATION:Room 204
URL;VALUE=URI:https://www.rak12.org/calendar/8867725/ap-european-history-re
 view-session
DTSTART:20260328T130000Z
DTEND:20260328T150000Z
END:VEVENT
END:VCALENDAR
