BEGIN:VCALENDAR
VERSION:2.0
PRODID:SchoolNow
CALSCALE:GREGORIAN
BEGIN:VEVENT
UID:82bb17a6-10f6-11f1-a649-0a58a9feac02
DTSTAMP:20260423T215115Z
SUMMARY:Middle School Talent Show
LOCATION:US Gym
URL;VALUE=URI:https://www.rak12.org/calendar/8867733/middle-school-talent-s
 how
DTSTART:20260526T160000Z
DTEND:20260526T173000Z
END:VEVENT
END:VCALENDAR
