BEGIN:VCALENDAR
VERSION:2.0
PRODID:SchoolNow
CALSCALE:GREGORIAN
BEGIN:VEVENT
UID:82bb1d6e-10f6-11f1-8813-0a58a9feac02
DTSTAMP:20260423T215115Z
SUMMARY:AP European History Review Session
LOCATION:Room 204
URL;VALUE=URI:https://www.rak12.org/calendar/8867735/ap-european-history-re
 view-session
DTSTART:20260326T193000Z
DTEND:20260326T204500Z
END:VEVENT
END:VCALENDAR
