BEGIN:VCALENDAR
VERSION:2.0
PRODID:SchoolNow
CALSCALE:GREGORIAN
BEGIN:VEVENT
UID:82bb228c-10f6-11f1-86fe-0a58a9feac02
DTSTAMP:20260423T215115Z
SUMMARY:AP European History Review Session
LOCATION:Room 204
URL;VALUE=URI:https://www.rak12.org/calendar/8867738/ap-european-history-re
 view-session
DTSTART:20260321T130000Z
DTEND:20260321T150000Z
END:VEVENT
END:VCALENDAR
