BEGIN:VCALENDAR
VERSION:2.0
PRODID:SchoolNow
CALSCALE:GREGORIAN
BEGIN:VEVENT
UID:82bb29bc-10f6-11f1-ae45-0a58a9feac02
DTSTAMP:20260423T215114Z
SUMMARY:AP European History Review Session
LOCATION:Room 204
URL;VALUE=URI:https://www.rak12.org/calendar/8867741/ap-european-history-re
 view-session
DTSTART:20260404T130000Z
DTEND:20260404T150000Z
END:VEVENT
END:VCALENDAR
