BEGIN:VCALENDAR
VERSION:2.0
PRODID:SchoolNow
CALSCALE:GREGORIAN
BEGIN:VEVENT
UID:82fe3d2e-10f6-11f1-ba9a-0a58a9feac02
DTSTAMP:20260423T215115Z
SUMMARY:Karate
LOCATION:LS Gym
URL;VALUE=URI:https://www.rak12.org/calendar/8867749/karate
DTSTART:20260224T213000Z
DTEND:20260225T000000Z
END:VEVENT
END:VCALENDAR
