BEGIN:VCALENDAR
VERSION:2.0
PRODID:SchoolNow
CALSCALE:GREGORIAN
BEGIN:VEVENT
UID:82fe412a-10f6-11f1-b625-0a58a9feac02
DTSTAMP:20260423T215115Z
SUMMARY:Karate
LOCATION:LS Gym
URL;VALUE=URI:https://www.rak12.org/calendar/8867753/karate
DTSTART:20260324T203000Z
DTEND:20260324T230000Z
END:VEVENT
END:VCALENDAR
