BEGIN:VCALENDAR
VERSION:2.0
PRODID:SchoolNow
CALSCALE:GREGORIAN
BEGIN:VEVENT
UID:82fe45ee-10f6-11f1-844c-0a58a9feac02
DTSTAMP:20260423T215115Z
SUMMARY:Karate
LOCATION:LS Gym
URL;VALUE=URI:https://www.rak12.org/calendar/8867758/karate
DTSTART:20260428T203000Z
DTEND:20260428T230000Z
END:VEVENT
END:VCALENDAR
