BEGIN:VCALENDAR
VERSION:2.0
PRODID:SchoolNow
CALSCALE:GREGORIAN
BEGIN:VEVENT
UID:82fe4aa8-10f6-11f1-8ffc-0a58a9feac02
DTSTAMP:20260423T215115Z
SUMMARY:Karate
LOCATION:LS Gym
URL;VALUE=URI:https://www.rak12.org/calendar/8867762/karate
DTSTART:20260526T203000Z
DTEND:20260526T230000Z
END:VEVENT
END:VCALENDAR
