BEGIN:VCALENDAR
VERSION:2.0
PRODID:SchoolNow
CALSCALE:GREGORIAN
BEGIN:VEVENT
UID:82fe553e-10f6-11f1-8996-0a58a9feac02
DTSTAMP:20260423T215115Z
SUMMARY:Karate
LOCATION:LS Gym
URL;VALUE=URI:https://www.rak12.org/calendar/8867773/karate
DTSTART:20260213T210000Z
DTEND:20260213T233000Z
END:VEVENT
END:VCALENDAR
