BEGIN:VCALENDAR
VERSION:2.0
PRODID:SchoolNow
CALSCALE:GREGORIAN
BEGIN:VEVENT
UID:82fe562e-10f6-11f1-83dd-0a58a9feac02
DTSTAMP:20260423T215115Z
SUMMARY:Karate
LOCATION:LS Gym
URL;VALUE=URI:https://www.rak12.org/calendar/8867774/karate
DTSTART:20260220T210000Z
DTEND:20260220T233000Z
END:VEVENT
END:VCALENDAR
