BEGIN:VCALENDAR
VERSION:2.0
PRODID:SchoolNow
CALSCALE:GREGORIAN
BEGIN:VEVENT
UID:82fe5c78-10f6-11f1-97dc-0a58a9feac02
DTSTAMP:20260423T215115Z
SUMMARY:Karate
LOCATION:LS Gym
URL;VALUE=URI:https://www.rak12.org/calendar/8867780/karate
DTSTART:20260403T200000Z
DTEND:20260403T223000Z
END:VEVENT
END:VCALENDAR
