BEGIN:VCALENDAR
VERSION:2.0
PRODID:SchoolNow
CALSCALE:GREGORIAN
BEGIN:VEVENT
UID:82fe5e4e-10f6-11f1-8873-0a58a9feac02
DTSTAMP:20260423T215115Z
SUMMARY:Karate
LOCATION:LS Gym
URL;VALUE=URI:https://www.rak12.org/calendar/8867782/karate
DTSTART:20260417T200000Z
DTEND:20260417T223000Z
END:VEVENT
END:VCALENDAR
