BEGIN:VCALENDAR
VERSION:2.0
PRODID:SchoolNow
CALSCALE:GREGORIAN
BEGIN:VEVENT
UID:83299a0a-10f6-11f1-9657-0a58a9feac02
DTSTAMP:20260423T215115Z
SUMMARY:Karate
LOCATION:LS Gym
URL;VALUE=URI:https://www.rak12.org/calendar/8867785/karate
DTSTART:20260508T200000Z
DTEND:20260508T223000Z
END:VEVENT
END:VCALENDAR
