BEGIN:VCALENDAR
VERSION:2.0
PRODID:SchoolNow
CALSCALE:GREGORIAN
BEGIN:VEVENT
UID:6d966cbe-129e-11f1-94f3-02463b1f561b
DTSTAMP:20260423T234008Z
SUMMARY:Varsity Girls Track & Field  Practice (Practice)
URL;VALUE=URI:https://www.rak12.org/calendar/8871830/varsity-girls-track-fi
 eld-practice-practice
DTSTART:20260324T193000Z
DTEND:20260324T203000Z
END:VEVENT
END:VCALENDAR
