BEGIN:VCALENDAR
VERSION:2.0
PRODID:SchoolNow
CALSCALE:GREGORIAN
BEGIN:VEVENT
UID:6e0101c8-129e-11f1-a2f1-02463b1f561b
DTSTAMP:20260423T234008Z
SUMMARY:Varsity Boys Track & Field  Practice (Practice)
URL;VALUE=URI:https://www.rak12.org/calendar/8871833/varsity-boys-track-fie
 ld-practice-practice
DTSTART:20260325T193000Z
DTEND:20260325T203000Z
END:VEVENT
END:VCALENDAR
