BEGIN:VCALENDAR
VERSION:2.0
PRODID:SchoolNow
CALSCALE:GREGORIAN
BEGIN:VEVENT
UID:6e09141c-129e-11f1-a871-02463b1f561b
DTSTAMP:20260423T234007Z
SUMMARY:Varsity Girls Track & Field  Practice (Practice)
URL;VALUE=URI:https://www.rak12.org/calendar/8871842/varsity-girls-track-fi
 eld-practice-practice
DTSTART:20260325T193000Z
DTEND:20260325T203000Z
END:VEVENT
END:VCALENDAR
