BEGIN:VCALENDAR
VERSION:2.0
PRODID:SchoolNow
CALSCALE:GREGORIAN
BEGIN:VEVENT
UID:6e12edc0-129e-11f1-9ce5-02463b1f561b
DTSTAMP:20260423T234008Z
SUMMARY:Varsity Boys Track & Field  Practice (Practice)
LOCATION:1900 Eagle Drive Norristown\, PA 19401
URL;VALUE=URI:https://www.rak12.org/calendar/8871847/varsity-boys-track-fie
 ld-practice-practice
DTSTART:20260326T220000Z
DTEND:20260326T230000Z
END:VEVENT
END:VCALENDAR
