BEGIN:VCALENDAR
VERSION:2.0
PRODID:SchoolNow
CALSCALE:GREGORIAN
BEGIN:VEVENT
UID:6e12f5c2-129e-11f1-b4d5-02463b1f561b
DTSTAMP:20260423T234008Z
SUMMARY:Varsity Girls Track & Field  Practice (Practice)
URL;VALUE=URI:https://www.rak12.org/calendar/8871849/varsity-girls-track-fi
 eld-practice-practice
DTSTART:20260331T193000Z
DTEND:20260331T203000Z
END:VEVENT
END:VCALENDAR
