BEGIN:VCALENDAR
VERSION:2.0
PRODID:SchoolNow
CALSCALE:GREGORIAN
BEGIN:VEVENT
UID:4bba5424-14f2-11f1-b5bb-0a58a9feac02
DTSTAMP:20260423T215114Z
SUMMARY:Volleyball Tournament
LOCATION:US Gym
URL;VALUE=URI:https://www.rak12.org/calendar/8879888/volleyball-tournament
DTSTART:20260302T190000Z
DTEND:20260302T203000Z
END:VEVENT
END:VCALENDAR
