BEGIN:VCALENDAR
VERSION:2.0
PRODID:SchoolNow
CALSCALE:GREGORIAN
BEGIN:VEVENT
UID:3b00bf8a-168a-11f1-842c-0e87986fabfd
DTSTAMP:20260423T215115Z
SUMMARY:School Board Public Meeting
URL;VALUE=URI:https://www.rak12.org/calendar/8885748/school-board-public-me
 eting
DTSTART:20260319T230000Z
DTEND:20260320T000000Z
ATTACH;FILENAME=19Mar26 Board Agenda.pdf;FMTTYPE=application/pdf:https://dr
 ive.google.com/open?id=1esClIQAApVJCEsR_SK0zWpj-vNUuvKm2
END:VEVENT
END:VCALENDAR
