BEGIN:VCALENDAR
VERSION:2.0
PRODID:SchoolNow
CALSCALE:GREGORIAN
BEGIN:VEVENT
UID:3b00c2e6-168a-11f1-a856-0e87986fabfd
DTSTAMP:20260423T215115Z
SUMMARY:School Board Public Meeting
URL;VALUE=URI:https://www.rak12.org/calendar/8885749/school-board-public-me
 eting
DTSTART:20260416T230000Z
DTEND:20260417T000000Z
ATTACH;FILENAME=16Apr26_20Board_20Agenda.pdf;FMTTYPE=application/pdf:https:
 //drive.google.com/open?id=1a_FPQw5l0wFFLh0ddccosUOvXlw2Vha9
END:VEVENT
END:VCALENDAR
